Package: MEAT Version: 1.20.0 Command: chmod a+r MEAT -R && E:\biocbuild\bbs-3.21-bioc\R\bin\R.exe CMD build --keep-empty-dirs --no-resave-data MEAT StartedAt: 2025-08-14 20:13:43 -0400 (Thu, 14 Aug 2025) EndedAt: 2025-08-14 20:15:42 -0400 (Thu, 14 Aug 2025) EllapsedTime: 118.6 seconds RetCode: 0 Status: OK PackageFile: MEAT_1.20.0.tar.gz PackageFileSize: 4.974 MiB