Package: MEAT Version: 1.20.0 Command: /home/biocbuild/R/R/bin/R CMD INSTALL MEAT StartedAt: 2025-04-21 21:21:08 -0000 (Mon, 21 Apr 2025) EndedAt: 2025-04-21 21:22:18 -0000 (Mon, 21 Apr 2025) EllapsedTime: 70.0 seconds RetCode: 0 Status: OK