Package: MEAT Version: 1.20.0 Command: /home/biocbuild/R/R/bin/R CMD build --keep-empty-dirs --no-resave-data MEAT StartedAt: 2025-04-22 02:02:45 -0000 (Tue, 22 Apr 2025) EndedAt: 2025-04-22 02:04:47 -0000 (Tue, 22 Apr 2025) EllapsedTime: 122.0 seconds RetCode: 0 Status: OK PackageFile: MEAT_1.20.0.tar.gz PackageFileSize: 4.974 MiB