Package: MEAT Version: 1.20.0 Maintainer: Sarah Voisin MaintainerEmail: sarah.voisin.aeris at gmail.com git_url: https://git.bioconductor.org/packages/MEAT git_branch: RELEASE_3_21 git_last_commit: 24062c0 git_last_commit_date: 2025-04-15 11:54:24 -0400 (Tue, 15 Apr 2025)