Package: MEAL Version: 1.36.0 Command: /home/biocbuild/R/R/bin/R CMD check --install=check:MEAL.install-out.txt --library=/home/biocbuild/R/R/site-library --no-vignettes --timings MEAL_1.36.0.tar.gz StartedAt: 2025-02-04 08:30:58 -0000 (Tue, 04 Feb 2025) EndedAt: 2025-02-04 08:37:20 -0000 (Tue, 04 Feb 2025) EllapsedTime: 381.5 seconds RetCode: 0 Status: WARNINGS CheckDir: MEAL.Rcheck Warnings: 2