Package: MDTS Version: 1.26.0 Command: /home/biocbuild/bbs-3.20-bioc/R/bin/R CMD check --install=check:MDTS.install-out.txt --library=/home/biocbuild/bbs-3.20-bioc/R/site-library --timings MDTS_1.26.0.tar.gz StartedAt: 2025-01-30 23:39:44 -0500 (Thu, 30 Jan 2025) EndedAt: 2025-01-30 23:42:32 -0500 (Thu, 30 Jan 2025) EllapsedTime: 168.1 seconds RetCode: 0 Status: OK CheckDir: MDTS.Rcheck Warnings: 0