Package: MDTS Version: 1.26.0 Command: /home/biocbuild/bbs-3.20-bioc/R/bin/R CMD build --keep-empty-dirs --no-resave-data --md5 MDTS StartedAt: 2025-01-30 17:56:16 -0500 (Thu, 30 Jan 2025) EndedAt: 2025-01-30 17:56:52 -0500 (Thu, 30 Jan 2025) EllapsedTime: 36.0 seconds RetCode: 0 Status: OK PackageFile: MDTS_1.26.0.tar.gz PackageFileSize: 32.56 KiB