Package: MDTS Version: 1.28.0 Command: /home/biocbuild/bbs-3.21-bioc/R/bin/R CMD build --keep-empty-dirs --no-resave-data MDTS StartedAt: 2025-09-28 18:35:07 -0400 (Sun, 28 Sep 2025) EndedAt: 2025-09-28 18:35:45 -0400 (Sun, 28 Sep 2025) EllapsedTime: 38.0 seconds RetCode: 0 Status: OK PackageFile: MDTS_1.28.0.tar.gz PackageFileSize: 31.96 KiB