Package: MCbiclust Version: 1.30.0 Command: rm -rf MCbiclust.buildbin-libdir && mkdir MCbiclust.buildbin-libdir && /Users/biocbuild/BBS/utils/build-universal.sh MCbiclust_1.30.0.tar.gz /Library/Frameworks/R.framework/Resources/bin/R MCbiclust.buildbin-libdir StartedAt: 2025-01-03 13:52:27 -0500 (Fri, 03 Jan 2025) EndedAt: 2025-01-03 13:53:41 -0500 (Fri, 03 Jan 2025) EllapsedTime: 74.3 seconds RetCode: 0 Status: OK PackageFile: MCbiclust_1.30.0.tgz PackageFileSize: 8.029 MiB