Package: MCbiclust Version: 1.32.0 Command: /Library/Frameworks/R.framework/Resources/bin/R CMD INSTALL MCbiclust StartedAt: 2025-04-21 15:34:18 -0400 (Mon, 21 Apr 2025) EndedAt: 2025-04-21 15:34:47 -0400 (Mon, 21 Apr 2025) EllapsedTime: 28.6 seconds RetCode: 0 Status: OK