Package: MCbiclust Version: 1.32.0 Maintainer: Robert Bentham MaintainerEmail: robert.bentham.11 at ucl.ac.uk git_url: https://git.bioconductor.org/packages/MCbiclust git_branch: RELEASE_3_21 git_last_commit: 12702d5 git_last_commit_date: 2025-04-15 11:08:31 -0400 (Tue, 15 Apr 2025)