Package: MBQN Version: 2.20.0 Maintainer: Eva Brombacher MaintainerEmail: brombach at imbi.uni-freiburg.de git_url: https://git.bioconductor.org/packages/MBQN git_branch: RELEASE_3_21 git_last_commit: e37dde6 git_last_commit_date: 2025-04-15 11:51:49 -0400 (Tue, 15 Apr 2025)