Package: MBECS Version: 1.12.0 Command: /Library/Frameworks/R.framework/Resources/bin/R CMD check --install=check:MBECS.install-out.txt --library=/Library/Frameworks/R.framework/Resources/library --no-vignettes --timings MBECS_1.12.0.tar.gz StartedAt: 2025-04-21 21:40:21 -0400 (Mon, 21 Apr 2025) EndedAt: 2025-04-21 21:44:51 -0400 (Mon, 21 Apr 2025) EllapsedTime: 269.6 seconds RetCode: 0 Status: OK CheckDir: MBECS.Rcheck Warnings: 0