Package: MBECS Version: 1.12.0 Command: /Library/Frameworks/R.framework/Resources/bin/R CMD build --keep-empty-dirs --no-resave-data MBECS StartedAt: 2025-04-21 17:21:43 -0400 (Mon, 21 Apr 2025) EndedAt: 2025-04-21 17:22:56 -0400 (Mon, 21 Apr 2025) EllapsedTime: 73.1 seconds RetCode: 0 Status: OK PackageFile: MBECS_1.12.0.tar.gz PackageFileSize: 1.725 MiB