Package: MBECS Version: 1.12.0 Command: /home/biocbuild/R/R/bin/R CMD INSTALL MBECS StartedAt: 2025-07-22 03:09:50 -0000 (Tue, 22 Jul 2025) EndedAt: 2025-07-22 03:10:19 -0000 (Tue, 22 Jul 2025) EllapsedTime: 29.3 seconds RetCode: 0 Status: OK