Package: MBCB Version: 1.62.0 Command: /Library/Frameworks/R.framework/Resources/bin/R CMD INSTALL MBCB StartedAt: 2025-05-22 15:21:31 -0400 (Thu, 22 May 2025) EndedAt: 2025-05-22 15:21:41 -0400 (Thu, 22 May 2025) EllapsedTime: 9.8 seconds RetCode: 0 Status: OK