Package: MBCB Version: 1.62.0 Command: /home/biocbuild/R/R/bin/R CMD build --keep-empty-dirs --no-resave-data MBCB StartedAt: 2025-04-22 01:59:56 -0000 (Tue, 22 Apr 2025) EndedAt: 2025-04-22 02:00:04 -0000 (Tue, 22 Apr 2025) EllapsedTime: 8.0 seconds RetCode: 0 Status: OK PackageFile: MBCB_1.62.0.tar.gz PackageFileSize: 403.3 KiB