Package: MBASED Version: 1.40.0 Command: /home/biocbuild/R/R/bin/R CMD build --keep-empty-dirs --no-resave-data MBASED StartedAt: 2025-01-31 00:40:36 -0000 (Fri, 31 Jan 2025) EndedAt: 2025-01-31 00:42:55 -0000 (Fri, 31 Jan 2025) EllapsedTime: 139.0 seconds RetCode: 0 Status: OK PackageFile: MBASED_1.40.0.tar.gz PackageFileSize: 351.9 KiB