Package: MAST Version: 1.32.0 Command: /home/biocbuild/R/R/bin/R CMD INSTALL MAST StartedAt: 2025-01-30 20:17:46 -0000 (Thu, 30 Jan 2025) EndedAt: 2025-01-30 20:18:40 -0000 (Thu, 30 Jan 2025) EllapsedTime: 54.1 seconds RetCode: 0 Status: OK