Package: MAST Version: 1.32.0 Command: /home/biocbuild/R/R/bin/R CMD build --keep-empty-dirs --no-resave-data MAST StartedAt: 2025-01-31 00:39:14 -0000 (Fri, 31 Jan 2025) EndedAt: 2025-01-31 00:45:13 -0000 (Fri, 31 Jan 2025) EllapsedTime: 359.2 seconds RetCode: 0 Status: OK PackageFile: MAST_1.32.0.tar.gz PackageFileSize: 5.927 MiB