Package: MAPFX Version: 1.2.0 Command: /home/biocbuild/R/R/bin/R CMD build --keep-empty-dirs --no-resave-data MAPFX StartedAt: 2025-01-31 00:37:24 -0000 (Fri, 31 Jan 2025) EndedAt: 2025-01-31 00:46:50 -0000 (Fri, 31 Jan 2025) EllapsedTime: 566.2 seconds RetCode: 0 Status: OK PackageFile: MAPFX_1.2.0.tar.gz PackageFileSize: 3.569 MiB