Package: MANOR Version: 1.78.0 Command: F:\biocbuild\bbs-3.20-bioc\R\bin\R.exe CMD check --no-multiarch --install=check:MANOR.install-out.txt --library=F:\biocbuild\bbs-3.20-bioc\R\library --no-vignettes --timings MANOR_1.78.0.tar.gz StartedAt: 2025-01-31 03:30:18 -0500 (Fri, 31 Jan 2025) EndedAt: 2025-01-31 03:31:08 -0500 (Fri, 31 Jan 2025) EllapsedTime: 49.6 seconds RetCode: 0 Status: WARNINGS CheckDir: MANOR.Rcheck Warnings: 1