Package: MANOR Version: 1.78.0 Command: /home/biocbuild/bbs-3.20-bioc/R/bin/R CMD build --keep-empty-dirs --no-resave-data --md5 MANOR StartedAt: 2025-01-30 17:52:57 -0500 (Thu, 30 Jan 2025) EndedAt: 2025-01-30 17:53:39 -0500 (Thu, 30 Jan 2025) EllapsedTime: 42.0 seconds RetCode: 0 Status: OK PackageFile: MANOR_1.78.0.tar.gz PackageFileSize: 1.478 MiB