Package: MANOR Version: 1.80.0 Command: /Library/Frameworks/R.framework/Resources/bin/R CMD INSTALL MANOR StartedAt: 2025-04-21 15:03:54 -0400 (Mon, 21 Apr 2025) EndedAt: 2025-04-21 15:04:39 -0400 (Mon, 21 Apr 2025) EllapsedTime: 44.7 seconds RetCode: 0 Status: OK