Package: MANOR Version: 1.80.0 Command: rm -rf MANOR.buildbin-libdir && mkdir MANOR.buildbin-libdir && /Users/biocbuild/BBS/utils/build-universal.sh MANOR_1.80.0.tar.gz /Library/Frameworks/R.framework/Resources/bin/R MANOR.buildbin-libdir StartedAt: 2025-04-21 22:40:38 -0400 (Mon, 21 Apr 2025) EndedAt: 2025-04-21 22:40:42 -0400 (Mon, 21 Apr 2025) EllapsedTime: 4.1 seconds RetCode: 0 Status: OK PackageFile: MANOR_1.80.0.tgz PackageFileSize: 1.784 MiB