############################################################################## ############################################################################## ### ### Running command: ### ### /Library/Frameworks/R.framework/Resources/bin/R CMD build --keep-empty-dirs --no-resave-data MAIT ### ############################################################################## ############################################################################## * checking for file ‘MAIT/DESCRIPTION’ ... OK * preparing ‘MAIT’: * checking DESCRIPTION meta-information ... OK * installing the package to build vignettes ----------------------------------- ERROR: dependencies ‘CAMERA’, ‘xcms’ are not available for package ‘MAIT’ Perhaps try a variation of: install.packages(c('CAMERA', 'xcms')) * removing ‘/private/tmp/Rtmp7epd6y/Rinst12b757762896f/MAIT’ ----------------------------------- ERROR: package installation failed