Package: MAI Version: 1.14.0 Command: /home/biocbuild/bbs-3.21-bioc/R/bin/R CMD build --keep-empty-dirs --no-resave-data MAI StartedAt: 2025-09-28 18:30:53 -0400 (Sun, 28 Sep 2025) EndedAt: 2025-09-28 18:35:22 -0400 (Sun, 28 Sep 2025) EllapsedTime: 268.3 seconds RetCode: 0 Status: OK PackageFile: MAI_1.14.0.tar.gz PackageFileSize: 452.3 KiB