Package: MAI Version: 1.14.0 Command: /home/biocbuild/R/R/bin/R CMD INSTALL MAI StartedAt: 2025-04-21 20:45:09 -0000 (Mon, 21 Apr 2025) EndedAt: 2025-04-21 20:45:48 -0000 (Mon, 21 Apr 2025) EllapsedTime: 39.0 seconds RetCode: 0 Status: OK