Package: MAGeCKFlute Version: 2.12.0 Command: /home/biocbuild/bbs-3.21-bioc/R/bin/R CMD build --keep-empty-dirs --no-resave-data MAGeCKFlute StartedAt: 2025-10-15 18:16:20 -0400 (Wed, 15 Oct 2025) EndedAt: 2025-10-15 18:19:32 -0400 (Wed, 15 Oct 2025) EllapsedTime: 192.2 seconds RetCode: 1 Status: ERROR PackageFile: None PackageFileSize: NA