Package: MAGeCKFlute Version: 2.12.0 Command: /Library/Frameworks/R.framework/Resources/bin/R CMD INSTALL MAGeCKFlute StartedAt: 2025-05-12 17:07:42 -0400 (Mon, 12 May 2025) EndedAt: 2025-05-12 17:08:46 -0400 (Mon, 12 May 2025) EllapsedTime: 64.2 seconds RetCode: 0 Status: OK