Package: MADSEQ Version: 1.34.0 Command: /Library/Frameworks/R.framework/Resources/bin/R CMD INSTALL MADSEQ StartedAt: 2025-04-21 15:21:32 -0400 (Mon, 21 Apr 2025) EndedAt: 2025-04-21 15:21:50 -0400 (Mon, 21 Apr 2025) EllapsedTime: 18.4 seconds RetCode: 0 Status: OK