Package: MACSQuantifyR Version: 1.20.0 Command: /home/biocbuild/R/R/bin/R CMD check --install=check:MACSQuantifyR.install-out.txt --library=/home/biocbuild/R/R/site-library --no-vignettes --timings MACSQuantifyR_1.20.0.tar.gz StartedAt: 2025-01-31 07:41:40 -0000 (Fri, 31 Jan 2025) EndedAt: 2025-01-31 07:42:24 -0000 (Fri, 31 Jan 2025) EllapsedTime: 44.1 seconds RetCode: 0 Status: OK CheckDir: MACSQuantifyR.Rcheck Warnings: 0