Package: M3Drop Version: 1.34.0 Command: /Library/Frameworks/R.framework/Resources/bin/R CMD build --keep-empty-dirs --no-resave-data M3Drop StartedAt: 2025-04-21 17:19:27 -0400 (Mon, 21 Apr 2025) EndedAt: 2025-04-21 17:21:55 -0400 (Mon, 21 Apr 2025) EllapsedTime: 148.6 seconds RetCode: 0 Status: OK PackageFile: M3Drop_1.34.0.tar.gz PackageFileSize: 12.24 MiB