Package: M3C Version: 1.28.0 Command: /home/biocbuild/R/R/bin/R CMD INSTALL M3C StartedAt: 2025-01-30 20:13:51 -0000 (Thu, 30 Jan 2025) EndedAt: 2025-01-30 20:14:01 -0000 (Thu, 30 Jan 2025) EllapsedTime: 10.1 seconds RetCode: 0 Status: OK