Package: M3C Version: 1.28.0 Command: /home/biocbuild/R/R/bin/R CMD build --keep-empty-dirs --no-resave-data M3C StartedAt: 2025-01-31 00:35:46 -0000 (Fri, 31 Jan 2025) EndedAt: 2025-01-31 00:36:38 -0000 (Fri, 31 Jan 2025) EllapsedTime: 52.0 seconds RetCode: 0 Status: OK PackageFile: M3C_1.28.0.tar.gz PackageFileSize: 579.7 KiB