Package: LymphoSeq Version: 1.36.0 Command: /Library/Frameworks/R.framework/Resources/bin/R CMD build --keep-empty-dirs --no-resave-data LymphoSeq StartedAt: 2025-04-21 16:47:42 -0400 (Mon, 21 Apr 2025) EndedAt: 2025-04-21 16:48:15 -0400 (Mon, 21 Apr 2025) EllapsedTime: 32.4 seconds RetCode: 0 Status: OK PackageFile: LymphoSeq_1.36.0.tar.gz PackageFileSize: 2.357 MiB