Package: LymphoSeq Version: 1.36.0 Command: rm -rf LymphoSeq.buildbin-libdir && mkdir LymphoSeq.buildbin-libdir && /Users/biocbuild/BBS/utils/build-universal.sh LymphoSeq_1.36.0.tar.gz /Library/Frameworks/R.framework/Resources/bin/R LymphoSeq.buildbin-libdir StartedAt: 2025-04-21 22:40:25 -0400 (Mon, 21 Apr 2025) EndedAt: 2025-04-21 22:40:34 -0400 (Mon, 21 Apr 2025) EllapsedTime: 9.2 seconds RetCode: 0 Status: OK PackageFile: LymphoSeq_1.36.0.tgz PackageFileSize: 2.492 MiB