Package: LoomExperiment Version: 1.26.1 Command: chmod a+r LoomExperiment -R && E:\biocbuild\bbs-3.21-bioc\R\bin\R.exe CMD build --keep-empty-dirs --no-resave-data LoomExperiment StartedAt: 2025-08-14 20:05:00 -0400 (Thu, 14 Aug 2025) EndedAt: 2025-08-14 20:06:13 -0400 (Thu, 14 Aug 2025) EllapsedTime: 73.3 seconds RetCode: 0 Status: OK PackageFile: LoomExperiment_1.26.1.tar.gz PackageFileSize: 253 KiB