Package: LoomExperiment Version: 1.26.1 Command: /Library/Frameworks/R.framework/Resources/bin/R CMD INSTALL LoomExperiment StartedAt: 2025-05-19 16:27:51 -0400 (Mon, 19 May 2025) EndedAt: 2025-05-19 16:28:24 -0400 (Mon, 19 May 2025) EllapsedTime: 33.4 seconds RetCode: 0 Status: OK