Package: Linnorm Version: 2.30.0 Command: /home/biocbuild/bbs-3.20-bioc/R/bin/R CMD INSTALL Linnorm StartedAt: 2025-01-30 15:11:44 -0500 (Thu, 30 Jan 2025) EndedAt: 2025-01-30 15:12:06 -0500 (Thu, 30 Jan 2025) EllapsedTime: 21.9 seconds RetCode: 0 Status: OK