Package: Linnorm Version: 2.30.0 Command: /home/biocbuild/bbs-3.20-bioc/R/bin/R CMD check --install=check:Linnorm.install-out.txt --library=/home/biocbuild/bbs-3.20-bioc/R/site-library --timings Linnorm_2.30.0.tar.gz StartedAt: 2025-01-30 23:28:50 -0500 (Thu, 30 Jan 2025) EndedAt: 2025-01-30 23:37:29 -0500 (Thu, 30 Jan 2025) EllapsedTime: 518.7 seconds RetCode: 0 Status: OK CheckDir: Linnorm.Rcheck Warnings: 0