Package: Linnorm Version: 2.32.0 Command: /home/biocbuild/R/R/bin/R CMD INSTALL Linnorm StartedAt: 2025-04-21 20:21:51 -0000 (Mon, 21 Apr 2025) EndedAt: 2025-04-21 20:22:28 -0000 (Mon, 21 Apr 2025) EllapsedTime: 37.2 seconds RetCode: 0 Status: OK