Package: Linnorm Version: 2.32.0 Command: /Library/Frameworks/R.framework/Resources/bin/R CMD check --install=check:Linnorm.install-out.txt --library=/Library/Frameworks/R.framework/Resources/library --no-vignettes --timings Linnorm_2.32.0.tar.gz StartedAt: 2025-04-29 06:42:27 -0400 (Tue, 29 Apr 2025) EndedAt: 2025-04-29 06:44:27 -0400 (Tue, 29 Apr 2025) EllapsedTime: 120.2 seconds RetCode: 0 Status: OK CheckDir: Linnorm.Rcheck Warnings: 0