Package: Linnorm Version: 2.32.0 Command: /Library/Frameworks/R.framework/Resources/bin/R CMD build --keep-empty-dirs --no-resave-data Linnorm StartedAt: 2025-04-28 22:55:31 -0400 (Mon, 28 Apr 2025) EndedAt: 2025-04-28 22:57:03 -0400 (Mon, 28 Apr 2025) EllapsedTime: 92.0 seconds RetCode: 0 Status: OK PackageFile: Linnorm_2.32.0.tar.gz PackageFileSize: 4.106 MiB