Package: LinkHD Version: 1.20.0 Command: /home/biocbuild/R/R/bin/R CMD INSTALL LinkHD StartedAt: 2025-01-30 21:05:17 -0000 (Thu, 30 Jan 2025) EndedAt: 2025-01-30 21:05:52 -0000 (Thu, 30 Jan 2025) EllapsedTime: 34.9 seconds RetCode: 0 Status: OK