Package: LinTInd Version: 1.12.0 Maintainer: Luyue Wang MaintainerEmail: wly1995310 at gmail.com git_url: https://git.bioconductor.org/packages/LinTInd git_branch: RELEASE_3_21 git_last_commit: 6f017ed git_last_commit_date: 2025-04-15 12:45:30 -0400 (Tue, 15 Apr 2025)