Package: LimROTS Version: 1.2.0 Command: /home/biocbuild/bbs-3.22-bioc/R/bin/R CMD INSTALL LimROTS StartedAt: 2025-11-06 15:55:11 -0500 (Thu, 06 Nov 2025) EndedAt: 2025-11-06 15:55:37 -0500 (Thu, 06 Nov 2025) EllapsedTime: 25.6 seconds RetCode: 0 Status: OK