Package: LimROTS Version: 1.2.0 Command: /home/biocbuild/bbs-3.22-bioc/R/bin/R CMD build --keep-empty-dirs --no-resave-data --md5 LimROTS StartedAt: 2025-11-06 18:22:33 -0500 (Thu, 06 Nov 2025) EndedAt: 2025-11-06 18:23:48 -0500 (Thu, 06 Nov 2025) EllapsedTime: 75.1 seconds RetCode: 0 Status: OK PackageFile: LimROTS_1.2.0.tar.gz PackageFileSize: 765.2 KiB