Package: Lheuristic Version: 1.2.0 Command: /home/biocbuild/bbs-3.22-bioc/R/bin/R CMD INSTALL Lheuristic StartedAt: 2025-11-10 15:29:14 -0500 (Mon, 10 Nov 2025) EndedAt: 2025-11-10 15:29:43 -0500 (Mon, 10 Nov 2025) EllapsedTime: 28.9 seconds RetCode: 0 Status: OK