Package: Lheuristic Version: 1.2.0 Command: /home/biocbuild/bbs-3.22-bioc/R/bin/R CMD build --keep-empty-dirs --no-resave-data --md5 Lheuristic StartedAt: 2025-11-10 18:27:43 -0500 (Mon, 10 Nov 2025) EndedAt: 2025-11-10 18:28:25 -0500 (Mon, 10 Nov 2025) EllapsedTime: 42.1 seconds RetCode: 0 Status: OK PackageFile: Lheuristic_1.2.0.tar.gz PackageFileSize: 570.4 KiB